BEGIN:VCALENDAR
VERSION:2.0
PRODID:-//Chevaliers de Colomb du Conseil 3141 Saint-Damase - ECPv6.15.20//NONSGML v1.0//EN
CALSCALE:GREGORIAN
METHOD:PUBLISH
X-WR-CALNAME:Chevaliers de Colomb du Conseil 3141 Saint-Damase
X-ORIGINAL-URL:https://cdecconseil3141.ca
X-WR-CALDESC:Évènements pour Chevaliers de Colomb du Conseil 3141 Saint-Damase
REFRESH-INTERVAL;VALUE=DURATION:PT1H
X-Robots-Tag:noindex
X-PUBLISHED-TTL:PT1H
BEGIN:VTIMEZONE
TZID:UTC
BEGIN:STANDARD
TZOFFSETFROM:+0000
TZOFFSETTO:+0000
TZNAME:UTC
DTSTART:20250101T000000
END:STANDARD
END:VTIMEZONE
BEGIN:VEVENT
DTSTART;TZID=UTC:20260405T083000
DTEND;TZID=UTC:20260405T110000
DTSTAMP:20260420T110242
CREATED:20260304T231124Z
LAST-MODIFIED:20260109T213635Z
UID:87-1775377800-1775386800@cdecconseil3141.ca
SUMMARY:Dejeuner du mois
DESCRIPTION:Dites-le à vos amis\, c’est toujours un plaisir\npour toute l’équipe Bénévoles\nde vous recevoir\net de vous servir avec le sourire\,\nont vous entend nombreux. \ndimanche le 05 avril\nà compter de 8h30 à 11h00. \nBienvenue à tous! \nBon déjeuné ! \nAmour\nL’émotion de l’amour existe en dedans de moi lorsque\nje peux être avec d’autres personnes sans rien désirer\nd’eux.\nVernon Howard\, Psycho-Pictographie\, S.I.P.\, 1965. \n( Merci aux Bénévoles ) \nFraternellement vôtre\,\nDenLab
URL:https://cdecconseil3141.ca/event/dejeuner-du-mois-2/
LOCATION:Chevaliers de Colomb conseil 3141\, 155 rue St-Étienne\, Saint-Damase\, Québec\, J0H 1J0\, Canada
CATEGORIES:Avril,Déjeuner Familial
END:VEVENT
BEGIN:VEVENT
DTSTART;TZID=UTC:20260317T193000
DTEND;TZID=UTC:20260317T220000
DTSTAMP:20260420T110242
CREATED:20260302T221221Z
LAST-MODIFIED:20260109T213829Z
UID:85-1773775800-1773784800@cdecconseil3141.ca
SUMMARY:Reunion du conseil
DESCRIPTION:La prochaine réunion le 17 mars à 19.30\nVotre présence parmi nous serait très appréciée. \nBienvenue à tous ceux qui sont en règle. \nLA PENSÉE DU MOIS\n“Le sentiment d’appartenance à une communauté\nest l’une des manifestations les plus actives\nde notre besoin d’identité\,\nbesoin qui inspire la plupart de nos actions\net dont la satisfaction justifie le plus souvent notre vie”. \nFraternellement vôtre\,\nDe l’Exécutif des Chevaliers de Colomb
URL:https://cdecconseil3141.ca/event/reunion-du-conseil/
LOCATION:Chevaliers de Colomb conseil 3141\, 155 rue St-Étienne\, Saint-Damase\, Québec\, J0H 1J0\, Canada
CATEGORIES:Assemblée du mois,Mars
END:VEVENT
BEGIN:VEVENT
DTSTART;TZID=UTC:20260307T200000
DTEND;TZID=UTC:20260307T230000
DTSTAMP:20260420T110242
CREATED:20260201T002638Z
LAST-MODIFIED:20260109T215436Z
UID:109-1772913600-1772924400@cdecconseil3141.ca
SUMMARY:Rafle de jambons
DESCRIPTION:Samedi le 07 mars 2026 à 20h00\n18 Ans et plus\nPlusieurs prix de présence\net buffet en fin soirée\nInfos : Yvon Martin 450 772-5742 \nN’oubliez pas L’heure est ainsi avancée le deuxième dimanche de mars\net revient à la normale le premier dimanche de novembre. \nChangements d’heure 2026\nAvancer l’heure dans la nuit du 7 au 8 mars 2026 \nReculer l’heure dans la nuit du 31 octobre au 1er novembre 2026
URL:https://cdecconseil3141.ca/event/rafle-de-jambons/
LOCATION:Chevaliers de Colomb conseil 3141\, 155 rue St-Étienne\, Saint-Damase\, Québec\, J0H 1J0\, Canada
CATEGORIES:Mars,Rafle
END:VEVENT
BEGIN:VEVENT
DTSTART;TZID=UTC:20260307T020000
DTEND;TZID=UTC:20260308T030000
DTSTAMP:20260420T110242
CREATED:20260301T233611Z
LAST-MODIFIED:20260109T215758Z
UID:104-1772848800-1772938800@cdecconseil3141.ca
SUMMARY:Ne pas oublier
DESCRIPTION:Ha !\nN’oubliez pas L’heure est ainsi avancée le deuxième dimanche de mars\n\nDonc dans la nuit du samedi 7 au 8 mars 2026\,\nvous avancez vos horloges d’une heure.\nÀ 2h\, il est donc 3h.\nVous dormez une heure de moins.\nAu printemps il fera nuit plus tard. \nEn AVRIL débute par AV ; donc\, on avance l’heure \nMais maintenant\, comme on la change en mars : le truc est moins bon ! \nMais quand même…\ndites-vous que mars étant le mois AVANT “avril”\, on avance… \nN’oubliez pas d’avancé l’heure :\nles pendules\, montres\, réveils et horloges… \nLors des changements d’heure\, les citoyens sont invités à vérifier le bon fonctionnement de leurs avertisseurs de fumée et détecteurs de monoxyde de carbone mais surtout\, procéder au remplacement des piles qui se trouvent dans ces appareils. \nLes avertisseurs de fumée\nUn avertisseur de fumée\, à pile ou électrique\, a une durée de vie variant entre huit à dix ans\, selon les modèles. Leur date d’expiration est\, dans bien des cas\, indiquée à l’intérieur du boîtier. \nIl est recommandé d’effectuer une vérification mensuelle du fonctionnement des avertisseurs\, et ce\, en appuyant pendant quelques secondes sur le bouton d’essai\, afin d’entendre le signal. Il est également possible de vérifier la capacité d’un avertisseur à détecter la fumée\, en éteignant une chandelle près de celui-ci. Si celui-ci est relié à une centrale\, il est essentiel de communiquer avec la compagnie avant d’effectuer une telle vérification. \nPeu importe le moment de l’année\, si un avertisseur de fumée émet des signaux sonores intermittents\, il est nécessaire de le nettoyer et de remplacer sa pile immédiatement. Ces signaux indiquent que la pile est trop faible et doit être changée. Si le signal persiste à la suite du changement de pile\, il est préférable de se prémunir d’un nouvel avertisseur\, car celui-ci pourrait être défectueux. S’il est endommagé\, peint ou qu’il n’émet pas de signal lors du changement de pile\, il faut le remplacer. Il est à noter que les avertisseurs électriques doivent également contenir une pile d’appoint\, en cas de panne électrique. \nUn avertisseur de fumée défectueux relié à une centrale affichera un trouble sur le panneau de la résidence. Dans ce cas\, il faut communiquer avec sa compagnie d’alarme. Seul un technicien certifié peut faire la vérification d’un avertisseur relié à une centrale d’alarme. \nIl est impératif de toujours utiliser une pile jetable et non une pile rechargeable. \nRappelons qu’une résidence doit compter au moins un avertisseur de fumée par étage\, ainsi qu’au sous-sol et dans les chambres à coucher où l’on dort la porte fermée. \nUn avertisseur de fumée qui fonctionne bien contribue à sauver des vies.
URL:https://cdecconseil3141.ca/event/ne-pas-oublier/
CATEGORIES:Changement d'heure,Mars
END:VEVENT
BEGIN:VEVENT
DTSTART;TZID=UTC:20260301T083000
DTEND;TZID=UTC:20260301T110000
DTSTAMP:20260420T110242
CREATED:20260204T220003Z
LAST-MODIFIED:20260109T215925Z
UID:81-1772353800-1772362800@cdecconseil3141.ca
SUMMARY:Dejeuner du mois
DESCRIPTION:Dites-le à vos amis\, c’est toujours un plaisir\npour toute l’équipe Bénévoles\nde vous recevoir\net de vous servir avec le sourire\,\nont vous entend nombreux. \ndimanche le 01 mars\nà compter de 8h30 à 11h00. \nBienvenue à tous! \nBon déjeuné ! \n( Merci aux Bénévoles ) \nAppréhension\nLes mauvaises suggestions\, les phobies\, les\nappréhensions\, les idées plus ou moins noires ou\nchagrines disparaissent peu à peu d’elles-mêmes\, sans\nque je lutte contre elles. Même les idées et les\nsentiments pénibles qui ont des raisons d’être très\nréelles cèdent de plus en plus de terrain.\nCharles Baudouin\, Psychologie et pratique de l’autosuggestion\,\nÉditions Idégraf\, 1990. \nFraternellement vôtre\,\nDenLab
URL:https://cdecconseil3141.ca/event/dejeuner-du-mois/
LOCATION:Chevaliers de Colomb conseil 3141\, 155 rue St-Étienne\, Saint-Damase\, Québec\, J0H 1J0\, Canada
CATEGORIES:Déjeuner Familial,Mars
END:VEVENT
BEGIN:VEVENT
DTSTART;TZID=UTC:20260217T073000
DTEND;TZID=UTC:20260217T220000
DTSTAMP:20260420T110242
CREATED:20260122T004614Z
LAST-MODIFIED:20260109T204901Z
UID:297-1771313400-1771365600@cdecconseil3141.ca
SUMMARY:Réunion du conseil
DESCRIPTION:Comme il s’agit de votre Journal du mois de la présente année colombienne\,\nla prochaine réunion le 17 février à 19.30\nVotre présence parmi nous serait très appréciée. \nJe voudrais également vous remercier\nd’avoir été encore une fois de fidèles lecteurs\net je vous donne rendez-vous dans votre prochain Journal. \nPensée positive : (Bonté)\nSi je désire trouver le bonheur\,\nje cesse de réfléchir à la gratitude\nou à l’ingratitude des gens\,\net je donne uniquement pour la joie de donner. \nTriomphez de vos soucis\, Dale Carnegie\, Flammarion\, 1944. \nFraternellement vôtre\,\nDe l’Exécutif Conseil 3141 \n 
URL:https://cdecconseil3141.ca/event/reunion-du-conseil-10/
LOCATION:Chevaliers de Colomb conseil 3141\, 155 rue St-Étienne\, Saint-Damase\, Québec\, J0H 1J0\, Canada
CATEGORIES:Assemblée du mois,Février
END:VEVENT
BEGIN:VEVENT
DTSTART;TZID=UTC:20260201T083000
DTEND;TZID=UTC:20260201T110000
DTSTAMP:20260420T110242
CREATED:20260114T004131Z
LAST-MODIFIED:20260109T204635Z
UID:295-1769934600-1769943600@cdecconseil3141.ca
SUMMARY:Déjeuner du mois
DESCRIPTION:Dites-le à vos amis\, c’est toujours un plaisir\npour toute l’équipe Bénévoles\nde vous recevoir\net de vous servir avec le sourire\,\nont vous entend nombreux. \ndimanche le 01 février\nà compter de 8h30 à 11h00. \nBienvenue à tous! \nBon déjeuné ! \n( Merci aux Bénévoles ) \nAmitié\nJ’ai besoin d’amis\, de m’entourer de gens qui\nm’aideront comme je les aiderai.\nRichard Carrière\, Joseph Hart\, La mise en forme psychologique\,\nLes Éditions de l’Homme\, 1979. \nFraternellement vôtre\,\nDenLab \n 
URL:https://cdecconseil3141.ca/event/dejeuner-du-mois-8/
LOCATION:Chevaliers de Colomb conseil 3141\, 155 rue St-Étienne\, Saint-Damase\, Québec\, J0H 1J0\, Canada
CATEGORIES:Déjeuner Familial,Février
END:VEVENT
BEGIN:VEVENT
DTSTART;TZID=UTC:20260120T193000
DTEND;TZID=UTC:20260120T220000
DTSTAMP:20260420T110242
CREATED:20251218T003703Z
LAST-MODIFIED:20260109T204319Z
UID:293-1768937400-1768946400@cdecconseil3141.ca
SUMMARY:Réunion du conseil
DESCRIPTION:Membre Chevalier\, \nla prochaine réunion le 20 janvier à 19.30\nvotre présence parmi nous serait très appréciée. \nBienvenue à tous ceux qui sont en règle. \nCitation\nSur toutes choses\, gardons la charité\, la paix entre nous\,\nc’est ce qui a fait la force de nos petits commencements\,\nque ce soit notre force dans les peines et les épreuves.\n19/01/1886 \nFraternellement vôtre\,\nDe l’Exécutif des Chevaliers de Colomb \n 
URL:https://cdecconseil3141.ca/event/reunion-du-conseil-9/
LOCATION:Chevaliers de Colomb conseil 3141\, 155 rue St-Étienne\, Saint-Damase\, Québec\, J0H 1J0\, Canada
CATEGORIES:Assemblée du mois,Janvier
END:VEVENT
BEGIN:VEVENT
DTSTART;TZID=UTC:20260104T083000
DTEND;TZID=UTC:20260104T110000
DTSTAMP:20260420T110242
CREATED:20251202T003021Z
LAST-MODIFIED:20260109T204106Z
UID:289-1767515400-1767524400@cdecconseil3141.ca
SUMMARY:Déjeuner du mois
DESCRIPTION:Le déjeuner ou petit déjeuner est le premier repas de la journée\,\ncelui qui se prend au lever. \nDites-le à vos amis\, c’est toujours un plaisir\npour toute l’équipe Bénévoles\nde vous recevoir\net de vous servir avec le sourire\,\nont vous entend nombreux. \ndimanche le 04 janvier 2026\nà compter de 8h30 à 11h00. \nBienvenue à tous! \nBon déjeuné ! \n( Merci aux Bénévoles ) \nFraternellement vôtre\,\nDenLab
URL:https://cdecconseil3141.ca/event/dejeuner-du-mois-7/
LOCATION:Chevaliers de Colomb conseil 3141\, 155 rue St-Étienne\, Saint-Damase\, Québec\, J0H 1J0\, Canada
CATEGORIES:Déjeuner Familial,Janvier
END:VEVENT
END:VCALENDAR