BEGIN:VCALENDAR
VERSION:2.0
PRODID:-//Chevaliers de Colomb du Conseil 3141 Saint-Damase - ECPv6.15.20//NONSGML v1.0//EN
CALSCALE:GREGORIAN
METHOD:PUBLISH
X-ORIGINAL-URL:https://cdecconseil3141.ca
X-WR-CALDESC:Évènements pour Chevaliers de Colomb du Conseil 3141 Saint-Damase
REFRESH-INTERVAL;VALUE=DURATION:PT1H
X-Robots-Tag:noindex
X-PUBLISHED-TTL:PT1H
BEGIN:VTIMEZONE
TZID:UTC
BEGIN:STANDARD
TZOFFSETFROM:+0000
TZOFFSETTO:+0000
TZNAME:UTC
DTSTART:20250101T000000
END:STANDARD
END:VTIMEZONE
BEGIN:VEVENT
DTSTART;TZID=UTC:20260421T193000
DTEND;TZID=UTC:20260421T220000
DTSTAMP:20260420T110529
CREATED:20260320T231634Z
LAST-MODIFIED:20260109T213452Z
UID:89-1776799800-1776808800@cdecconseil3141.ca
SUMMARY:Reunion du conseil
DESCRIPTION:Assemblée du mois qui aura lieu\nce mardi 21 avril à 19h30\nà la salle des Chevaliers \nTous les membres du conseil 3141\nsont invités à participer activement\naux mouvements du nouveau changement\net avec la même volonté d’agir ensemble\npour construire le monde\nque nous voulons pour nous\net les générations futures. \nLA PENSÉE POSITIVE : Décision\n« ” Je suis convaincu du bien-fondé de mes décisions\, pour\nmoi et mes proches ” »\nDr Anthony et Mary Zaffuto\,\nAlphagénique\, Éditions Québec/Amérique\, 1974. \nFraternellement vôtre\,\nDe l’Exécutif des Chevaliers de Colomb
URL:https://cdecconseil3141.ca/event/reunion-du-conseil-2/
LOCATION:Chevaliers de Colomb conseil 3141\, 155 rue St-Étienne\, Saint-Damase\, Québec\, J0H 1J0\, Canada
CATEGORIES:Assemblée du mois,Avril
END:VEVENT
END:VCALENDAR